BEGIN:VCALENDAR
VERSION:2.0
PRODID:-//St Michael's Parish - ECPv6.15.18//NONSGML v1.0//EN
CALSCALE:GREGORIAN
METHOD:PUBLISH
X-WR-CALNAME:St Michael's Parish
X-ORIGINAL-URL:https://www.stmichaelsblackrock.ie
X-WR-CALDESC:Events for St Michael's Parish
REFRESH-INTERVAL;VALUE=DURATION:PT1H
X-Robots-Tag:noindex
X-PUBLISHED-TTL:PT1H
BEGIN:VTIMEZONE
TZID:Europe/Dublin
BEGIN:STANDARD
TZOFFSETFROM:+0000
TZOFFSETTO:+0100
TZNAME:IST
DTSTART:20190331T010000
END:STANDARD
BEGIN:DAYLIGHT
TZOFFSETFROM:+0100
TZOFFSETTO:+0000
TZNAME:GMT
DTSTART:20191027T010000
END:DAYLIGHT
BEGIN:STANDARD
TZOFFSETFROM:+0000
TZOFFSETTO:+0100
TZNAME:IST
DTSTART:20200329T010000
END:STANDARD
BEGIN:DAYLIGHT
TZOFFSETFROM:+0100
TZOFFSETTO:+0000
TZNAME:GMT
DTSTART:20201025T010000
END:DAYLIGHT
BEGIN:STANDARD
TZOFFSETFROM:+0000
TZOFFSETTO:+0100
TZNAME:IST
DTSTART:20210328T010000
END:STANDARD
BEGIN:DAYLIGHT
TZOFFSETFROM:+0100
TZOFFSETTO:+0000
TZNAME:GMT
DTSTART:20211031T010000
END:DAYLIGHT
END:VTIMEZONE
BEGIN:VTIMEZONE
TZID:UTC
BEGIN:STANDARD
TZOFFSETFROM:+0000
TZOFFSETTO:+0000
TZNAME:UTC
DTSTART:20170101T000000
END:STANDARD
END:VTIMEZONE
BEGIN:VEVENT
DTSTART;TZID=Europe/Dublin:20201201T200000
DTEND;TZID=Europe/Dublin:20201203T210000
DTSTAMP:20260424T174222
CREATED:20201119T210402Z
LAST-MODIFIED:20201119T210402Z
UID:12292-1606852800-1607029200@www.stmichaelsblackrock.ie
SUMMARY:MINI ADVENT RETREAT ON ZOOM
DESCRIPTION:For three sessions\, during Advent\, you are invited to take part in a mini-retreat that will explore the themes of Faith\, Hope and Love. The retreat will be led by Fr Billy Swan\, St Aidan’s Cathedral\, Enniscorthy and will take place from Tuesday 1st to Thursday 3rd December beginning at 8pm. To take part\, all you need to do is send an email to thehookoffaith@gmail.com to receive the Zoom link. Come and join us to prepare for Christmas.
URL:https://www.stmichaelsblackrock.ie/event/mini-advent-retreat-on-zoom/2020-12-01/
END:VEVENT
BEGIN:VEVENT
DTSTART;VALUE=DATE:20200401
DTEND;VALUE=DATE:20200801
DTSTAMP:20260424T174222
CREATED:20200528T093001Z
LAST-MODIFIED:20200528T093359Z
UID:9951-1585699200-1596239999@www.stmichaelsblackrock.ie
SUMMARY:Multiday Event
DESCRIPTION:123
URL:https://www.stmichaelsblackrock.ie/event/multiday-event/
CATEGORIES:Event category 1
END:VEVENT
BEGIN:VEVENT
DTSTART;TZID=UTC:20181031T080000
DTEND;TZID=UTC:20181031T170000
DTSTAMP:20260424T174222
CREATED:20180814T114249Z
LAST-MODIFIED:20180814T114249Z
UID:9800-1540972800-1541005200@www.stmichaelsblackrock.ie
SUMMARY:Test event
DESCRIPTION:
URL:https://www.stmichaelsblackrock.ie/event/test-event/
CATEGORIES:Event category 1
END:VEVENT
BEGIN:VEVENT
DTSTART;TZID=UTC:20181013T080000
DTEND;TZID=UTC:20181013T170000
DTSTAMP:20260424T174222
CREATED:20180814T114321Z
LAST-MODIFIED:20180814T114321Z
UID:9802-1539417600-1539450000@www.stmichaelsblackrock.ie
SUMMARY:Test event 2
DESCRIPTION:
URL:https://www.stmichaelsblackrock.ie/event/test-event-2/
CATEGORIES:Event category 2
END:VEVENT
END:VCALENDAR